Workbook

Sheet 様式3-3
F2: 文字を入力
F3: 半角数字を入力
F4: プルダウンで選択 （直接入力も可）
A10: 様式3-3 | BT10: 【 令和 | CB10: 年度】
A11: 栄養管理報告書（様式3-3）
A12: （事業者、寮・寄宿舎、学校（高校・大学等）、その他）
BL13: 令和 | BR13: 年 | BW13: 月 | CB13: 日
A15: 西宮市保健所長 （宛） | AT15: 【設置者】 | AY15: 住所
AY16: （法人の場合）法人名
A17: 健康増進法第24条第1項の規定により、次のとおり栄養管理状況を報告します。 | AY17: （役職） | BN17: （氏名）
A19: 基本情報 | C19: 施設名 | AS19: 施設種類 | BG19: 1．事業所 2．寮・寄宿舎 3．学校（高校・大学） 4．その他(有料老人ホーム 等）
C20: 所在地 | I20: 〒 | R20: 西宮市 | AS20: 給食運営方式 | BG20: 1.直営 2.全委託 3.一部委託
C21: 管理者名 | I21: （役職） | Y21: （氏名）
C22: 連絡先 | I22: ＴＥＬ | AS22: メールアドレス
C23: 定員数 | N23: 喫食対象者 （入所者数） | AD23: 人 | AI23: 給食利用率 | AW23: ％ | BA23: ※利用率：給食利用者数/喫食対象者（入所者・従業員等）の人数×100（％） | CI23: 【給食従事者について】
C24: 食数 | N24: 朝 | V24: 昼 | AD24: 夕 | AL24: 合計（1日） | AT24: 給食 従事者 | AZ24: 施設側（人） | BH24: 委託側（人） 施設専属 | BP24: 他施設兼務（人） | CI24: ※1：「常勤」とは、当該施設において他の正規職員と同様な勤務形態にある場合をいう。
BT25: 市内兼務施設名
T26: 食 | AB26: 食 | AJ26: 食 | AL26: =SUM(M26,U26,AC26) -> 0 | AR26: 食 | AZ26: 常勤 | BD26: 非常勤 | BH26: 常勤 | BL26: 非常勤 | CI26: ※2：「委託側・施設専属」とは、当該施設内に専属で勤務している委託職員数を記入する。 委託先本社に勤務している職員数は含めない。
C27: 食事の提供形態 （主な形態を 1つ選択） | P27: 1.単一定食 | X27: 1.単一定食 | AF27: 1.単一定食 | AL27: →1種類の定食 | AT27: 管理栄養士 | CI27: ※3：他施設と兼務している場合は、兼務している施設名を記入する。
P28: 2.複数定食 | X28: 2.複数定食 | AF28: 2.複数定食 | AL28: →2種類以上の 定食から喫食者 が選択 | AT28: 栄養士 | CI28: （例1）・管理栄養士はA施設に籍を置き、Ｂ施設の栄養管理を行っている管理栄養士の場合 ・管理栄養士はA施設に籍を置き、A病院で併設のB施設の給食を提供している場合
P29: 3.カフェテリア | X29: 3.カフェテリア | AF29: 3.カフェテリア | AL29: →主食・主菜・副菜 等を利用者が 組合せて選択 | AT29: 調理師 | CI29: →A施設の報告書では「施設側・常勤」に計上し、Ｂ施設の報告書では「他施設兼務」に 計上し、兼務施設名に「A施設」と記入する。ただし、市外施設との兼務は『市外施設』と記入する。
P30: 4.その他 | X30: 4.その他 | AF30: 4.その他 | AL30: →麺類・丼もの等の単品メニュー等 | AT30: 調理員 | CI30: （例2）委託会社の管理栄養士が、複数の施設の栄養管理を行い、定期的に担当施設を 巡回している場合
P31: （ | U31: ） | X31: （ | AC31: ） | AF31: （ | AK31: ） | AT31: その他 | CI31: →「他施設兼務」に計上し、兼務施設名を記入する。ただし、市外施設との兼務は『市外施設』と記入する。
C32: 栄養管理の 実務者 | N32: 氏名 | AV32: 資格 | BK32: 1.管理栄養士 2.栄養士 3.その他 | CI32: ※4：複数の資格を持つ者は、業務内容から判断し、主なもの1つの職種欄にその人数を記入する。
N33: 所属 | V33: 1．施設雇用 2．委託雇用 | AV33: 当該施設の担当年数 | BL33: 年
C34: 委託先 （委託の場合は記入） | N34: 会社名 | AV34: 所在地 | BR34: 委託契約書 | CA34: 1.あり
N35: 施設担当者名 | AV35: ＴＥＬ | CA35: 2.なし
N36: 委託内容 | Y36: 献立作成 | AI36: 食材購入 | AS36: 調理・盛付 | BC36: 配膳・下膳 | BL36: 食器洗浄 | BV36: 施設外調理
A37: 体制整備 | C37: 給食目標 （複数選択可） | R37: 利用者の健康づくり | AI37: ＱＯＬ（生活の質）の向上 | BA37: 適切な栄養素の摂取 | BP37: 安価での提供
R38: 楽しい食事 | AI38: その他（ | CC38: ）
C39: 栄養管理に 関する会議 | N39: 会議の有無 | AA39: 1．有 | AG39: 2.無 | AQ39: 実施回数 | AY39: 年 | BF39: 回 | BJ39: 会議録の保存 | BV39: 1．有 2.無
N40: 目的 （複数選択可） | Z40: 栄養管理における課題の把握と解決のための改善策の検討 | BJ40: 適切な栄養管理を行うための連携強化
Z41: 献立内容の検討 | AR41: 苦情処理 | BJ41: その他 （ | CE41: )
N42: 構成 職種 | R42: 施設側 | AA42: 管理者 | AS42: 栄養管理部門責任者 | BH42: 管理栄養士 / 栄養士
AA43: 調理師/調理員 | AS43: 健康管理部門 | BH43: 給食利用者 | BS43: その他（ | CE43: ）
R44: 委託先 | AA44: 管理栄養士 / 栄養士 | AS44: 調理師 / 調理員 | BG44: その他（ | CE44: ）
C45: 健康管理部門との連携 | AA45: １．有 | AF45: 2．無
C46: 従事者の人材育成 | N46: 研修体制 の有無 | Z46: １．有 ２．無 | AE46: → | AH46: 【実施方法】 | AR46: 施設内研修会の参加 | BG46: 施設外研修・学会等の参加 | BW46: 現場教育（ＯＪＴ）
C47: 非常時の対応・備え | N47: 食中毒等対策マニュアル | AF47: １．有 | AK47: 2．無 | AS47: 非常食の備蓄の有無 | BJ47: 1.有（ | BP47: 人分× | BW47: 日分） | CA47: 2．無
N48: 災害対策マニュアル | AF48: １．有 | AK48: 2．無 | AS48: アレルギー食への対応 | BJ48: １．有 | BO48: 2．無
N49: 他施設との連携体制 | AF49: １．有 | AK49: 2．無 | AS49: 職員への周知 | BJ49: １．有 | BO49: 2．無
C51: 施設名 | I51: =I19 -> 0 | AT51: ←1ページ目の施設名を入力すると反映されます
A53: アセスメント・計画・実施・評価 | C53: 給食対象者の把握（アセスメント） | Z53: 性別 | AH53: 年齢 | AQ53: 身長 | AY53: 体重 | BF53: ＢＭＩ（肥満度）
Z54: 疾患・食物アレルギー | AQ54: 食事の摂取量 | BF54: その他（ | CE54: ）
C55: 対象者の 身体活動レベル （性・年齢別人数） | N55: 身体活動レベル | Z55: 性別 | AE55: 18 | AH55: ～ | AJ55: 29 | AM55: 歳 | AP55: 30 | AS55: ～ | AU55: 49 | AX55: 歳 | BA55: 50 | BD55: ～ | BF55: 64 | BI55: 歳 | BL55: 64歳以上 | BW55: 計（人）
N56: Ⅰ.低 い ※座り仕事（デスクワーク）が ほとんど | Z56: 男性 | BW56: =SUM(AE56:BV56) -> 0
Z57: 女性 | BW57: =SUM(AE57:BV57) -> 0
N58: Ⅱ.ふつう ※職場内移動や立位作業 がある人 | Z58: 男性 | BW58: =SUM(AE58:BV58) -> 0
Z59: 女性 | BW59: =SUM(AE59:BV59) -> 0
N60: Ⅲ.高 い ※移動や立位など運動量が 特に多い人 | Z60: 男性 | BW60: =SUM(AE60:BV60) -> 0
Z61: 女性 | BW61: =SUM(AE61:BV61) -> 0
N62: 合計 | AE62: =SUM(AE56:AO61) -> 0 | AP62: =SUM(AP56:AZ61) -> 0 | BA62: =SUM(BA56:BK61) -> 0 | BL62: =SUM(BL56:BV61) -> 0 | BW62: =SUM(BW56:CE61) -> 0
C63: 施設の 食事摂取基準 | N63: 給与栄養目標量 | Z63: 1．設定あり（ | AO63: 年 | AW63: 月作成 ） | BE63: 2.設定なし
N64: 見直しの頻度 | Z64: 1．年1回以上 | AJ64: 2. 2～4年おき | AT64: 3. 5年おき（日本人の食事摂取基準の改定にあわせて） | BR64: 4．5年以上見直しなし
C65: 栄養摂取状況 | P65: 【対象】 | Y65: 歳 | AB65: ～ | AI65: 歳
C66: 栄養素名等 | N66: 施設基準（目標量） | AB66: 給与栄養量 | AQ66: エネルギー産生栄養素バランス | BE66: 施設基準 | BR66: 給与栄養量
C67: エネルギー | W67: kcal | AK67: kcal | AQ67: たんぱく質エネルギー比 | BP67: ％ | CD67: ％
C68: たんぱく質 | W68: g | AK68: g | AQ68: 脂質エネルギー比 | BP68: ％ | CD68: ％
C69: 脂質 | W69: g | AK69: g | AQ69: 炭水化物エネルギー比 | BP69: ％ | CD69: ％
C70: ビタミンＡ | W70: ㎍RAE | AK70: ㎍RAE
C71: ビタミンＢ1 | W71: ｍｇ | AK71: ｍｇ
C72: ビタミンＢ2 | W72: ｍｇ | AK72: ｍｇ | AQ72: 栄養関連施策項目 | BE72: 施設基準 | BR72: 提供量
C73: ビタミンＣ | W73: ｍｇ | AK73: ｍｇ | AQ73: 野菜・ 果物の 提供量 | AW73: 緑黄色野菜 | BP73: ｇ | CD73: ｇ
C74: カルシウム | W74: ｍｇ | AK74: ｍｇ | AW74: その他の野菜 | BP74: ｇ | CD74: ｇ
C75: 鉄 | W75: ｍｇ | AK75: ｍｇ | AW75: 果物 | BP75: ｇ | CD75: ｇ
C76: 食物繊維 | W76: g | AK76: g
C77: 食塩相当量 | W77: g | AK77: g
C78: 献立作成 | S78: 1．有 2．無 | W78: → 【作成者】 | AD78: 所属： | AL78: 1.施設側 2.委託側 | AT78: 職種： | AZ78: 1.管栄栄養士・栄養士 2.調理師 3.その他 | BN78: 氏名：
C79: 健康・栄養情報の 提供 | N79: 献立の栄養成分表示 | AC79: 1．有 2．無 | AG79: → | AM79: エネルギー | AW79: たんぱく質 | BF79: 脂質 | BM79: 炭水化物 | BU79: 食塩相当量
N80: 献立表の掲示 | AG80: １．有 | AM80: 2．無 | AT80: 栄養バランスに配慮した 組み合わせの提示 | BO80: １．有 | BT80: 2．無
N81: ポスター・ＰＯＰ等の掲示 | AG81: １．有 | AM81: 2．無 | AT81: 社内配信/電子掲示板等による 情報提供 | BO81: １．有 | BT81: 2．無
C82: 健康に配慮した 献立の導入 | S82: 1．有 2．無 | W82: → | Y82: 【提供内容】 | BR82: （例）1食○○kcal、 1食塩分○ｇ以下、 1食野菜○○ｇ以上
C83: 個人（疾病）に 合わせた対応 | S83: 1．有 2．無 | W83: → | AB83: 量の調整 | AL83: アレルギー食への対応 | BA83: 情報提供（献立表等の配布） | BR83: その他（ | CE83: ）
C84: 摂取量の把握 | S84: 1．有 2．無 | W84: → | Y84: 【方法】 | AH84: １．個別 | AM84: 2．全体 | AS84: 3.その他（ | BI84: ） | BK84: 【結果の活用】 | BW84: １．有 | CA84: 2．無
C85: 嗜好・満足度調査 | S85: 1．有 2．無 | W85: → | Y85: 【頻度】 | AE85: 年 | AL85: 回
C86: 栄養教育状況 (年間） | N86: 個別 | AG86: 集団
AE87: 回 | AS87: 回
C88: 施設の健康課題と 給食を通じた 独自の取組み
A90: 報告作成者 | N90: 所属 | AG90: 職名 | AV90: 氏名 | BM90: 連絡先

Sheet 【入力不可】集計用
A1: 施設種類 | B1: 施設名 | C1: 住所 | D1: ＴＥＬ | E1: メール アドレス | F1: 管理者 | G1: 給食運営 | H1: 定員数 | J1: 給食数 | N1: 給食従事者 （施設） | Q1: 給食従事者 （委託先） | T1: 栄養管理 責任者/実務者 | W1: 委託内容 | AD1: 給食の位置づけ | AJ1: 栄養管理に関する会議 | AR1: 構成職種 ・管理者 | BC1: 従事者の人材育成 | BG1: 非常時の対応・備え | BN1: 対象者の把握項目 | BV1: 身体活動レベル | CD1: 施設の食事摂取基準 | CF1: 給与栄養目標量 | CQ1: 給与栄養量 | DB1: エネルギー産生栄養素バランス(給与） | DE1: 栄養施策関連 | DH1: 栄養施策関連 | DK1: 献立作成 | DN1: 健康情報 | DS1: 健康に配慮した献立の導入 | DT1: 個別対応 | DY1: 摂取量の把握 | EB1: 嗜好調査 | ED1: 栄養指導・教育 | EF1: 課題等
G2: 直営 /委託 | J2: 食数（朝） | K2: 食数（昼） | L2: 食数（夕） | M2: 食数 （1日） | N2: 常勤 | Q2: 常勤 | T2: 資格 | U2: 所属 | Y2: 委託内容 | AD2: 利用者の健康づくり | AE2: QOLの向上 | AF2: 適切な栄養摂取 | AG2: 安価での提供 | AH2: 楽しい食事 | AI2: その他 | AJ2: 会議 有無 | AK2: 実施回数 | AL2: 会議録の保存 | AM2: 目的 | AR2: 施設側 | AY2: 委託側 | BB2: 健康管理部門との連携 | BC2: 研修体制の有無 | BD2: 内容 | BG2: 食中毒 マニュアル | BH2: 災害 マニュアル | BI2: 他施設との連携 | BJ2: 備蓄 | BM2: 職員への周知 | BN2: 性 | BO2: 年齢 | BP2: 身長 | BQ2: 体重 | BR2: 肥満度 | BS2: 疾患・食物アレルギー | BT2: 食事摂取量 | BU2: その他 | BV2: 男性 | BZ2: 女性 | CD2: 栄養目標量の有無 | CF2: エネルギー（目標） | CG2: たんぱく質（目標） | CH2: 脂質（目標） | CI2: ビタミンA（目標） | CJ2: ビタミンB1（目標） | CK2: ビタミンB2（目標） | CL2: ビタミンC（目標） | CM2: カルシウム（目標） | CN2: 鉄（目標） | CO2: 食物繊維（目標） | CP2: 食塩（目標） | CQ2: エネルギー（給与） | CR2: たんぱく質（給与） | CS2: 脂質（給与） | CT2: ビタミンＡ（給与） | CU2: ビタミンＢ1（給与） | CV2: ビタミンＢ2（給与） | CW2: ビタミンＣ（給与） | CX2: カルシウム（給与） | CY2: 鉄（給与） | CZ2: 食物繊維（給与） | DA2: 食塩（給与） | DB2: たんぱく質エネルギー比 | DE2: 目標量 | DH2: 提供量 | DK2: 有無 | DL2: 所属 | DM2: 職種 | DO2: 献立表の提供 | DP2: 栄養バランスに配慮した組み合わせの提示 | DQ2: ポスター・POP | DR2: 社内配信・電子掲示版 | DT2: 有無 | DU2: 対応内容 | DY2: 有無 | DZ2: 調査方法 | EA2: 結果の活用 | EB2: 有無 | EC2: 頻度 | ED2: 個別 | EE2: 集団
G3: 直営 /委託 | H3: 喫食対象者 | I3: 給食利用率 | N3: 管栄 | O3: 栄 | P3: 調理師 | Q3: 管栄 | R3: 栄 | S3: 調理師 | V3: 当該年数 | W3: 委託会社 | X3: 委託契約書の有無 | Y3: 献立作成 | Z3: 食材購入 | AA3: 調理・盛り付け | AB3: 食器洗浄 | AC3: 施設外調理 | AJ3: 委員会の有無 | AK3: 実施回数 | AL3: 会議録の保存 | AM3: 課題把握と改善策 | AN3: 連携強化 | AO3: 献立内容の検討 | AP3: 苦情処理 | AQ3: その他 | AR3: 管理者 | AS3: 栄養管理部門責任者 | AT3: 管理栄養士/栄養士、栄養教諭 | AU3: 調理師/調理員 | AV3: 健康管理部門 | AW3: 給食利用者 | AX3: その他 | AY3: 管理栄養士・栄養士 | AZ3: 調理師・調理員 | BA3: その他 | BD3: 施設内研修 | BE3: 施設外研修 | BF3: 現場教育 | BK3: 何日分 | BL3: アレルギー食への対応 | BN3: 性 | BO3: 年齢 | BP3: 身長 | BQ3: 体重 | BR3: ＢＭＩ | BS3: 疾患 | BT3: 生活環境 | BU3: その他 | BV3: Ⅰ低い | BW3: Ⅱふつう | BX3: Ⅲ高い | BY3: 合計 | BZ3: Ⅰ低い | CA3: Ⅱふつう | CB3: Ⅲ高い | CC3: 合計 | CD3: 栄養目標量の有無 | CE3: 見直しの頻度 | CF3: エネルギー（目標） | CG3: たんぱく質（目標） | CH3: 脂質（目標） | CI3: 脂質（目標） | CJ3: 脂質（目標） | CK3: 脂質（目標） | CL3: 脂質（目標） | CM3: カルシウム（目標） | CN3: 鉄（目標） | CO3: 食物繊維（目標） | CP3: 食塩（目標） | CQ3: エネルギー（給与） | CR3: たんぱく質（給与） | CS3: 脂質（給与） | CT3: ビタミンＡ（給与） | CU3: ビタミンＢ1（給与） | CV3: ビタミンＢ2（給与） | CW3: ビタミンＣ（給与） | CX3: カルシウム（給与） | CY3: 鉄（給与） | CZ3: 食物繊維（給与） | DA3: 食塩（給与） | DC3: 脂質エネルギー比 | DD3: 炭水化物エネルギー比 | DE3: 緑黄色野菜 | DF3: その他の野菜 | DG3: 果物 | DH3: 緑黄色野菜 | DI3: その他の野菜 | DJ3: 果物 | DK3: 有無 | DN3: 栄養成分表示 | DO3: 献立表の提供 | DU3: 量の調整 | DV3: アレルギー対応 | DW3: 情報提供 | DX3: その他
A4: ='様式3-3'!BC19 -> 0 | B4: ='様式3-3'!I19 -> 0 | C4: ='様式3-3'!V20 -> 0 | D4: ='様式3-3'!L22 -> 0 | E4: ='様式3-3'!BC22 -> 0 | F4: ='様式3-3'!AC21 -> 0 | G4: ='様式3-3'!BC20 -> 0 | H4: ='様式3-3'!U23 -> 0 | I4: ='様式3-3'!AP23 -> 0 | J4: ='様式3-3'!N26 -> 0 | K4: ='様式3-3'!V26 -> 0 | L4: ='様式3-3'!AD26 -> 0 | M4: ='様式3-3'!AM26 -> 0 | N4: {=TRANSPOSE('様式3-3'!AZ27:AZ29)} -> 0 | O4: 0 | P4: 0 | Q4: {=TRANSPOSE('様式3-3'!BH27:BH29)} -> 0 | R4: 0 | S4: 0 | T4: ='様式3-3'!BG32 -> 0 | U4: ='様式3-3'!R33 -> 0 | V4: ='様式3-3'!BG33 -> 0 | W4: ='様式3-3'!V34 -> 0 | X4: ='様式3-3'!BX34 -> 0 | Y4: ='様式3-3'!V36 -> 0 | Z4: ='様式3-3'!AE36 -> 0 | AA4: ='様式3-3'!AO36 -> 0 | AB4: ='様式3-3'!BI36 -> 0 | AC4: ='様式3-3'!BS36 -> 0 | AD4: ='様式3-3'!N37 -> 0 | AE4: ='様式3-3'!AE37 -> 0 | AF4: ='様式3-3'!AW37 -> 0 | AG4: ='様式3-3'!BL37 -> 0 | AH4: ='様式3-3'!N38 -> 0 | AI4: ='様式3-3'!AE38 -> 0 | AJ4: ='様式3-3'!V39 -> 0 | AK4: ='様式3-3'!BA39 -> 0 | AL4: ='様式3-3'!BR39 -> 0 | AM4: ='様式3-3'!V40 -> 0 | AN4: ='様式3-3'!BF40 -> 0 | AO4: ='様式3-3'!V41 -> 0 | AP4: ='様式3-3'!AN41 -> 0 | AQ4: ='様式3-3'!BF41 -> 0 | AR4: ='様式3-3'!V42 -> 0 | AS4: ='様式3-3'!AN42 -> 0 | AT4: ='様式3-3'!BC42 -> 0 | AU4: ='様式3-3'!V43 -> 0 | AV4: ='様式3-3'!AN43 -> 0 | AW4: ='様式3-3'!BC43 -> 0 | AX4: ='様式3-3'!BN43 -> 0 | AY4: ='様式3-3'!V44 -> 0 | AZ4: ='様式3-3'!AN44 -> 0 | BA4: ='様式3-3'!BC44 -> 0 | BB4: ='様式3-3'!V45 -> 0 | BC4: ='様式3-3'!V46 -> 0 | BD4: ='様式3-3'!AN46 -> 0 | BE4: ='様式3-3'!BC46 -> 0 | BF4: ='様式3-3'!BS46 -> 0 | BG4: ='様式3-3'!AA47 -> 0 | BH4: ='様式3-3'!AA48 -> 0 | BI4: ='様式3-3'!AA49 -> 0 | BJ4: ='様式3-3'!BE47 -> 0 | BK4: ='様式3-3'!BT47 -> 0 | BL4: ='様式3-3'!BE48 -> 0 | BM4: ='様式3-3'!BE49 -> 0 | BN4: ='様式3-3'!V53 -> 0 | BO4: ='様式3-3'!AD53 -> 0 | BP4: ='様式3-3'!AM53 -> 0 | BQ4: ='様式3-3'!AU53 -> 0 | BR4: ='様式3-3'!BB53 -> 0 | BS4: ='様式3-3'!V54 -> 0 | BT4: ='様式3-3'!AM54 -> 0 | BU4: ='様式3-3'!BB54 -> 0 | BV4: ='様式3-3'!BW56 -> 0 | BW4: ='様式3-3'!BW58 -> 0 | BX4: ='様式3-3'!BW60 -> 0 | BY4: =SUM(BV4:BX4) -> 0 | BZ4: ='様式3-3'!BW57 -> 0 | CA4: ='様式3-3'!BW59 -> 0 | CB4: ='様式3-3'!BW61 -> 0 | CC4: =SUM(BZ4:CB4) -> 0 | CD4: ='様式3-3'!V63 -> 0 | CE4: ='様式3-3'!V64 -> 0 | CF4: {=TRANSPOSE('様式3-3'!N67:N77)} -> 0 | CG4: 0 | CH4: 0 | CI4: 0 | CJ4: 0 | CK4: 0 | CL4: 0 | CM4: 0 | CN4: 0 | CO4: 0 | CP4: 0 | CQ4: {=TRANSPOSE('様式3-3'!AB67:AB77)} -> 0 | CR4: 0 | CS4: 0 | CT4: 0 | CU4: 0 | CV4: 0 | CW4: 0 | CX4: 0 | CY4: 0 | CZ4: 0 | DA4: 0 | DB4: {=TRANSPOSE('様式3-3'!BR67:BR69)} -> 0 | DC4: 0 | DD4: 0 | DE4: {=TRANSPOSE('様式3-3'!BE73:BE75)} -> 0 | DF4: 0 | DG4: 0 | DH4: {=TRANSPOSE('様式3-3'!BR73:BR75)} -> 0 | DI4: 0 | DJ4: 0 | DK4: ='様式3-3'!N78 -> 0 | DL4: ='様式3-3'!AH78 -> 0 | DM4: ='様式3-3'!AW78 -> 0 | DN4: ='様式3-3'!Y79 -> 0 | DO4: ='様式3-3'!AB80 -> 0 | DP4: ='様式3-3'!BJ80 -> 0 | DQ4: ='様式3-3'!AB81 -> 0 | DR4: ='様式3-3'!BJ81 -> 0 | DS4: ='様式3-3'!N82 -> 0 | DT4: ='様式3-3'!N83 -> 0 | DU4: ='様式3-3'!Y83 -> 0 | DV4: ='様式3-3'!AI83 -> 0 | DW4: ='様式3-3'!AX83 -> 0 | DX4: ='様式3-3'!BO83 -> 0 | DY4: ='様式3-3'!N84 -> 0 | DZ4: ='様式3-3'!AD84 -> 0 | EA4: ='様式3-3'!BS84 -> 0 | EB4: ='様式3-3'!N85 -> 0 | EC4: ='様式3-3'!AG85 -> 0 | ED4: =IF('様式3-3'!N87>=1,1,IF('様式3-3'!N87=0,2)) -> 2 | EE4: =IF('様式3-3'!AG87>=1,1,IF('様式3-3'!AG87=0,2)) -> 2 | EF4: =IF(ISTEXT('様式3-3'!N88),1,2) -> 2
ED6: ↑0回の時は「2」

Sheet 【入力不可】入力規則
A1: 1 | B1: ○
A2: 2 | B2: ×
A3: 3
A4: 4
A5: 5
A6: 6
